BEGIN:VCALENDAR
VERSION:2.0
PRODID:-//Youth Bridge Foundation - ECPv6.15.20//NONSGML v1.0//EN
CALSCALE:GREGORIAN
METHOD:PUBLISH
X-WR-CALNAME:Youth Bridge Foundation
X-ORIGINAL-URL:https://www.youthbridgefoundation.org
X-WR-CALDESC:Events for Youth Bridge Foundation
REFRESH-INTERVAL;VALUE=DURATION:PT1H
X-Robots-Tag:noindex
X-PUBLISHED-TTL:PT1H
BEGIN:VTIMEZONE
TZID:UTC
BEGIN:STANDARD
TZOFFSETFROM:+0000
TZOFFSETTO:+0000
TZNAME:UTC
DTSTART:20220101T000000
END:STANDARD
END:VTIMEZONE
BEGIN:VEVENT
DTSTART;TZID=UTC:20230913T083000
DTEND;TZID=UTC:20230913T130000
DTSTAMP:20260423T050421
CREATED:20230912T102055Z
LAST-MODIFIED:20230912T102055Z
UID:6785-1694593800-1694610000@www.youthbridgefoundation.org
SUMMARY:EDU Connekt
DESCRIPTION:Investing in Human Capital: The Job Readiness Journey
URL:https://www.youthbridgefoundation.org/event/edu-connekt/
CATEGORIES:Educonnekt
ATTACH;FMTTYPE=image/jpeg:https://www.youthbridgefoundation.org/wp-content/uploads/2023/09/376683857_298951419450376_217547738608629033_n.jpg
END:VEVENT
END:VCALENDAR